BEGIN:VCALENDAR
VERSION:2.0
PRODID:-//Municipalidad de El Calafate - ECPv6.15.19//NONSGML v1.0//EN
CALSCALE:GREGORIAN
METHOD:PUBLISH
X-WR-CALNAME:Municipalidad de El Calafate
X-ORIGINAL-URL:https://elcalafate.gov.ar
X-WR-CALDESC:Eventos para Municipalidad de El Calafate
REFRESH-INTERVAL;VALUE=DURATION:PT1H
X-Robots-Tag:noindex
X-PUBLISHED-TTL:PT1H
BEGIN:VTIMEZONE
TZID:America/Sao_Paulo
BEGIN:STANDARD
TZOFFSETFROM:-0300
TZOFFSETTO:-0300
TZNAME:-03
DTSTART:20240101T000000
END:STANDARD
END:VTIMEZONE
BEGIN:VEVENT
DTSTART;TZID=America/Sao_Paulo:20251009T140000
DTEND;TZID=America/Sao_Paulo:20251009T180000
DTSTAMP:20260419T230427
CREATED:20251009T161032Z
LAST-MODIFIED:20251009T161101Z
UID:4622-1760018400-1760032800@elcalafate.gov.ar
SUMMARY:2da. Edición Tarde de Pileta
DESCRIPTION:Vivi una experiencia en el Natario Municipal
URL:https://elcalafate.gov.ar/eventos/2da-edicion-tarde-de-pileta/
LOCATION:Natatorio Municipal
END:VEVENT
BEGIN:VEVENT
DTSTART;TZID=America/Sao_Paulo:20251009T203000
DTEND;TZID=America/Sao_Paulo:20251010T010000
DTSTAMP:20260419T230427
CREATED:20251009T160502Z
LAST-MODIFIED:20251009T160532Z
UID:4615-1760041800-1760058000@elcalafate.gov.ar
SUMMARY:Peña Solidaria
DESCRIPTION:Peña solidaria a beneficio del piano de concierto para El Calafate. Grupos folklóricos en vivo y sorteos
URL:https://elcalafate.gov.ar/eventos/pena-solidaria/
LOCATION:Espora 132\, El Calafate
END:VEVENT
BEGIN:VEVENT
DTSTART;TZID=America/Sao_Paulo:20251009T210000
DTEND;TZID=America/Sao_Paulo:20251009T210000
DTSTAMP:20260419T230427
CREATED:20251009T154115Z
LAST-MODIFIED:20251009T154410Z
UID:4608-1760043600-1760043600@elcalafate.gov.ar
SUMMARY:Sabores Joven Labrador
DESCRIPTION:Segunda cena del Taller de Gastronomía del Centro Educativo Joven Labrador
URL:https://elcalafate.gov.ar/eventos/4608/
END:VEVENT
BEGIN:VEVENT
DTSTART;TZID=America/Sao_Paulo:20251015T180000
DTEND;TZID=America/Sao_Paulo:20251015T180000
DTSTAMP:20260419T230427
CREATED:20251015T113031Z
LAST-MODIFIED:20251015T113050Z
UID:4647-1760551200-1760551200@elcalafate.gov.ar
SUMMARY:Final UPV
DESCRIPTION:Gran final Una Posibilidad de Viajar 2025 – Microestadio Municipal Viernes 17 18Hs. Sabado 18 14Hs.
URL:https://elcalafate.gov.ar/eventos/final-upv/
END:VEVENT
BEGIN:VEVENT
DTSTART;TZID=America/Sao_Paulo:20251015T210000
DTEND;TZID=America/Sao_Paulo:20251016T180000
DTSTAMP:20260419T230427
CREATED:20251015T114024Z
LAST-MODIFIED:20251015T114035Z
UID:4650-1760562000-1760637600@elcalafate.gov.ar
SUMMARY:El Rey León
DESCRIPTION:El Grupo de Teatro “Somos lo que Somos” presenta su nueva obra teatral: “El Rey León”\, en el Centro Cultural El Calafate \n\n\n\nViernes 17 octubre 21Hs \n\n\n\nSábado 18 Octubre 20Hs \n\n\n\nDomingo 19 Octubre 18Hs \n\n\n\nEntrada a la gorra  – Apto para todo publico
URL:https://elcalafate.gov.ar/eventos/el-rey-leon/
END:VEVENT
BEGIN:VEVENT
DTSTART;TZID=America/Sao_Paulo:20251017T160000
DTEND;TZID=America/Sao_Paulo:20251018T200000
DTSTAMP:20260419T230427
CREATED:20251016T125455Z
LAST-MODIFIED:20251016T144525Z
UID:4655-1760716800-1760817600@elcalafate.gov.ar
SUMMARY:UPV - Una Posibilidad de Viajar.
DESCRIPTION:Gana un Viaje de Egresados\, para todos los 4to años de Colegios Secundarios.mas Info: elcalafate.gov.ar/UPV
URL:https://elcalafate.gov.ar/eventos/upv-una-posibilidad-de-viajar/
LOCATION:Microestadio Municipal\, Monseñor Fagnano 1853\, El Calafate\, Santa Cruz\, 9405\, Argentina
ATTACH;FMTTYPE=image/png:https://elcalafate.gov.ar/wp-content/uploads/2025/10/UPV-1086x1536-1.png
END:VEVENT
BEGIN:VEVENT
DTSTART;TZID=America/Sao_Paulo:20251018T160000
DTEND;TZID=America/Sao_Paulo:20251018T170000
DTSTAMP:20260419T230427
CREATED:20251016T145523Z
LAST-MODIFIED:20251016T145545Z
UID:4660-1760803200-1760806800@elcalafate.gov.ar
SUMMARY:FAMILIA ZAPP EN EL CALAFATE
DESCRIPTION:CHARLA GRATUITAVUELTA AL MUNDO EN 22 AÑOS \n\n\n\nEl 18/10 a las 16:00En Centro CulturalRoca 1160 \n\n\n\nFamiliazappfamily \n\n\n\n📸 YouTube – Instagram – Facebook \n\n\n\n📚 ¡LIBROS DISPONIBLES!Atrapa tu sueño (varios tomos)
URL:https://elcalafate.gov.ar/eventos/familia-zapp-en-el-calafate/
LOCATION:Centro cultural municipal\, Julio Argentino Roca 1100\, El Calafate\, Santa Cruz\, 9405\, Argentina
ATTACH;FMTTYPE=image/jpeg:https://elcalafate.gov.ar/wp-content/uploads/2025/10/WhatsApp-Image-2025-10-16-at-11.42.50.jpeg
END:VEVENT
BEGIN:VEVENT
DTSTART;TZID=America/Sao_Paulo:20251031T233000
DTEND;TZID=America/Sao_Paulo:20251031T233000
DTSTAMP:20260419T230427
CREATED:20251031T162718Z
LAST-MODIFIED:20251031T162754Z
UID:4720-1761953400-1761953400@elcalafate.gov.ar
SUMMARY:🎃TRASNOCHE DE TERROR DE HALLOWEEN🎃
DESCRIPTION:Función: Viernes 31 de Octubre a las 23.45hs🔸Entrada gratuita con cupo limitado📍Retirá tu entrada a partir de hoy (Jueves 30)en Boletería a partir de las 17hs.📍Votá la película que quieras ver y accedé al sorteo por película ganadora: \n\n\n\n2019 MIDSOMMAR👻También habrá sorteos y premios a tu disfraz y Cosplay🥳LOS ESPERAMOS ‼ \n\n\n\n1999 BLAIR WITCH \n\n\n\n2004 SAW EL JUEGO DEL MIEDO \n\n\n\n2005 EL EXORCISMO DE EMILY ROSE \n\n\n\n2012 ACTIVIDAD PARANORMAL
URL:https://elcalafate.gov.ar/eventos/%f0%9f%8e%83trasnoche-de-terror-de-halloween%f0%9f%8e%83/
LOCATION:cine municipal\, Julio A Roca 1130\, El Calafate\, Santa Cruz\, 9405\, Argentina
ATTACH;FMTTYPE=image/jpeg:https://elcalafate.gov.ar/wp-content/uploads/2025/10/a89750e4-2841-44d7-9ee0-86b97d1451d3.jpg
END:VEVENT
BEGIN:VEVENT
DTSTART;TZID=America/Sao_Paulo:20251101T120000
DTEND;TZID=America/Sao_Paulo:20251102T170000
DTSTAMP:20260419T230427
CREATED:20251031T161739Z
LAST-MODIFIED:20251031T161807Z
UID:4717-1761998400-1762102800@elcalafate.gov.ar
SUMMARY:Carreras en el Quique Freile
DESCRIPTION:Vuelven las Carreras\, al Autódromo Quique Freile\, con dos grandes categorías\, 800CC y 1600CC Unificada.Una doble fecha de la 6ta y 7ma\, del campeonato.En esta ocasión el Gran Premio Roberto “Tito” Fernandez. van a tener un comienzo a las 12:00 hs.
URL:https://elcalafate.gov.ar/eventos/carreras-en-el-quique-freile/
LOCATION:autódromo municipal “quique” freile\, MRGX+JH\, El Calafate\, Santa Cruz\, 9405\, Argentina
ATTACH;FMTTYPE=image/png:https://elcalafate.gov.ar/wp-content/uploads/2025/10/1-y-2-nov-Automovilismo.png
END:VEVENT
BEGIN:VEVENT
DTSTART;TZID=America/Sao_Paulo:20260130T093000
DTEND;TZID=America/Sao_Paulo:20260201T210000
DTSTAMP:20260419T230427
CREATED:20260129T221917Z
LAST-MODIFIED:20260129T221953Z
UID:4887-1769765400-1769979600@elcalafate.gov.ar
SUMMARY:Beach Voley
DESCRIPTION:Beach Voley \n\n\n\n LLEGA EL BEACH VÓLEY DE LA FNDL2026  \n\n\n\n Viernes 30\, sábado 31 y domingo 1 \n\n\n\n Rama masculina y femenina \n\n\n\n Gimnasio Palito Cherbukov – Masculino \n\n\n\n Punta Soberana – Femenino \n\n\n\nVení a alentar\, disfrutar y vivir un lindo evento. \n\n\n\n¡No te lo pierdas!
URL:https://elcalafate.gov.ar/eventos/beach-voley/
ATTACH;FMTTYPE=image/png:https://elcalafate.gov.ar/wp-content/uploads/2026/01/beach.png
END:VEVENT
BEGIN:VEVENT
DTSTART;TZID=America/Sao_Paulo:20260311T160000
DTEND;TZID=America/Sao_Paulo:20260313T190000
DTSTAMP:20260419T230427
CREATED:20260305T161814Z
LAST-MODIFIED:20260305T161824Z
UID:4956-1773244800-1773428400@elcalafate.gov.ar
SUMMARY:Actividades Académicas
DESCRIPTION:Visita Prof. Dr. Ioannis Pitas en el CUNEC
URL:https://elcalafate.gov.ar/eventos/actividades-academicas/
ATTACH;FMTTYPE=image/jpeg:https://elcalafate.gov.ar/wp-content/uploads/2026/03/WhatsApp-Image-2026-03-05-at-12.28.53.jpeg
END:VEVENT
END:VCALENDAR