BEGIN:VCALENDAR
VERSION:2.0
PRODID:-//Municipalidad de El Calafate - ECPv6.15.19//NONSGML v1.0//EN
CALSCALE:GREGORIAN
METHOD:PUBLISH
X-ORIGINAL-URL:https://elcalafate.gov.ar
X-WR-CALDESC:Eventos para Municipalidad de El Calafate
REFRESH-INTERVAL;VALUE=DURATION:PT1H
X-Robots-Tag:noindex
X-PUBLISHED-TTL:PT1H
BEGIN:VTIMEZONE
TZID:America/Sao_Paulo
BEGIN:STANDARD
TZOFFSETFROM:-0300
TZOFFSETTO:-0300
TZNAME:-03
DTSTART:20240101T000000
END:STANDARD
END:VTIMEZONE
BEGIN:VEVENT
DTSTART;TZID=America/Sao_Paulo:20250927T200000
DTEND;TZID=America/Sao_Paulo:20250927T230000
DTSTAMP:20260418T215549
CREATED:20250916T164712Z
LAST-MODIFIED:20250916T164735Z
UID:4410-1759003200-1759014000@elcalafate.gov.ar
SUMMARY:VAMOS A SANTA CRUZ
DESCRIPTION:2DA EDICION – ESPECIAL “10 AÑOS” Dia de la Identidad Santacruceña –  \n\n\n\n\n\n\n\nYA ESTAN DISPONIBLES LAS ENTRADAS  \n\n\n\nCelular: (2966) – 489661
URL:https://elcalafate.gov.ar/eventos/vamos-a-santa-cruz/
LOCATION:Centro cultural municipal\, Julio Argentino Roca 1100\, El Calafate\, Santa Cruz\, 9405\, Argentina
END:VEVENT
END:VCALENDAR