BEGIN:VCALENDAR
VERSION:2.0
PRODID:-//Municipalidad de El Calafate - ECPv6.15.19//NONSGML v1.0//EN
CALSCALE:GREGORIAN
METHOD:PUBLISH
X-WR-CALNAME:Municipalidad de El Calafate
X-ORIGINAL-URL:https://elcalafate.gov.ar
X-WR-CALDESC:Eventos para Municipalidad de El Calafate
REFRESH-INTERVAL;VALUE=DURATION:PT1H
X-Robots-Tag:noindex
X-PUBLISHED-TTL:PT1H
BEGIN:VTIMEZONE
TZID:America/Sao_Paulo
BEGIN:STANDARD
TZOFFSETFROM:-0300
TZOFFSETTO:-0300
TZNAME:-03
DTSTART:20240101T000000
END:STANDARD
END:VTIMEZONE
BEGIN:VEVENT
DTSTART;TZID=America/Sao_Paulo:20250919T140000
DTEND;TZID=America/Sao_Paulo:20250919T140000
DTSTAMP:20260418T215513
CREATED:20250916T163932Z
LAST-MODIFIED:20250916T163959Z
UID:4405-1758290400-1758290400@elcalafate.gov.ar
SUMMARY:MasterClass & COnversatorio a cargo de la destacada pianista Daniela Salinas
DESCRIPTION:Viernes 19 de Septiembre – 14Hs \n\n\n\nMasterClass & COnversatorio a cargo de la destacada pianista Daniela Salinas \n\n\n\nSábado 20 de Septiembre – 21Hs \n\n\n\nPiano Concierto
URL:https://elcalafate.gov.ar/eventos/masterclass-conversatorio-a-cargo-de-la-destacada-pianista-daniela-salinas/
LOCATION:Centro cultural municipal\, Julio Argentino Roca 1100\, El Calafate\, Santa Cruz\, 9405\, Argentina
END:VEVENT
BEGIN:VEVENT
DTSTART;TZID=America/Sao_Paulo:20250919T180000
DTEND;TZID=America/Sao_Paulo:20250919T180000
DTSTAMP:20260418T215513
CREATED:20250916T163218Z
LAST-MODIFIED:20250916T165531Z
UID:4397-1758304800-1758304800@elcalafate.gov.ar
SUMMARY:FESTEJAMOS LA PRIMAVERA EN EL ANFITEATRO
DESCRIPTION:El viernes 19 y sábado 20 los esperamos en el anfiteatro para festejar la primavera con amigos y familia. \n\n\n\n Show en vivo con Roze \n\n\n\n Patio gastronómico y cervecero \n\n\n\n Puestos de artesanos y fogón \n\n\n\n Premios y sorteos \n\n\n\nEntrada libre y gratuita.
URL:https://elcalafate.gov.ar/eventos/festejamos-la-primavera-en-el-anfiteatro/
LOCATION:anfiteatro del bosque
ATTACH;FMTTYPE=image/jpeg:https://elcalafate.gov.ar/wp-content/uploads/2025/09/545201882_18130776559456297_6030612991183415345_n.jpg
END:VEVENT
END:VCALENDAR