BEGIN:VCALENDAR
VERSION:2.0
PRODID:-//Municipalidad de El Calafate - ECPv6.15.19//NONSGML v1.0//EN
CALSCALE:GREGORIAN
METHOD:PUBLISH
X-WR-CALNAME:Municipalidad de El Calafate
X-ORIGINAL-URL:https://elcalafate.gov.ar
X-WR-CALDESC:Eventos para Municipalidad de El Calafate
REFRESH-INTERVAL;VALUE=DURATION:PT1H
X-Robots-Tag:noindex
X-PUBLISHED-TTL:PT1H
BEGIN:VTIMEZONE
TZID:America/Sao_Paulo
BEGIN:STANDARD
TZOFFSETFROM:-0300
TZOFFSETTO:-0300
TZNAME:-03
DTSTART:20240101T000000
END:STANDARD
END:VTIMEZONE
BEGIN:VEVENT
DTSTART;TZID=America/Sao_Paulo:20250913T120000
DTEND;TZID=America/Sao_Paulo:20250914T163000
DTSTAMP:20260418T100215
CREATED:20250912T221259Z
LAST-MODIFIED:20250912T221312Z
UID:4310-1757764800-1757867400@elcalafate.gov.ar
SUMMARY:FIN DE SEMANA DE CARRERASGRAN PREMIO: "DÍA DE LA PRIMAVERA"
DESCRIPTION:FIN DE SEMANA DE CARRERASGRAN PREMIO: “DÍA DE LA PRIMAVERA”
URL:https://elcalafate.gov.ar/eventos/fin-de-semana-de-carrerasgran-premio-dia-de-la-primavera/
LOCATION:autódromo municipal “quique” freile\, MRGX+JH\, El Calafate\, Santa Cruz\, 9405\, Argentina
ATTACH;FMTTYPE=image/jpeg:https://elcalafate.gov.ar/wp-content/uploads/2025/09/545807142_1203869535119314_7035157373969139376_n.jpg
END:VEVENT
END:VCALENDAR