BEGIN:VCALENDAR
VERSION:2.0
PRODID:-//Municipalidad de El Calafate - ECPv6.15.19//NONSGML v1.0//EN
CALSCALE:GREGORIAN
METHOD:PUBLISH
X-WR-CALNAME:Municipalidad de El Calafate
X-ORIGINAL-URL:https://elcalafate.gov.ar
X-WR-CALDESC:Eventos para Municipalidad de El Calafate
REFRESH-INTERVAL;VALUE=DURATION:PT1H
X-Robots-Tag:noindex
X-PUBLISHED-TTL:PT1H
BEGIN:VTIMEZONE
TZID:America/Sao_Paulo
BEGIN:STANDARD
TZOFFSETFROM:-0300
TZOFFSETTO:-0300
TZNAME:-03
DTSTART:20240101T000000
END:STANDARD
END:VTIMEZONE
BEGIN:VEVENT
DTSTART;TZID=America/Sao_Paulo:20250322T190000
DTEND;TZID=America/Sao_Paulo:20250322T190000
DTSTAMP:20260418T094720
CREATED:20241112T163928Z
LAST-MODIFIED:20241114T163846Z
UID:2627-1742670000-1742670000@elcalafate.gov.ar
SUMMARY:¡La Renga llega a El Calafate!
DESCRIPTION:La venta de entradas aún no ha sido confirmada\, por lo que se recomienda estar atentos a los canales oficiales para conocer toda la información sobre cómo adquirir los tickets.
URL:https://elcalafate.gov.ar/eventos/la-renga-llega-a-el-calafate/
ATTACH;FMTTYPE=image/jpeg:https://elcalafate.gov.ar/wp-content/uploads/2024/11/a1fa5bd1-3f8b-4e56-9f36-36ddd803e8e6-1024x1024-1.jpeg
END:VEVENT
END:VCALENDAR