BEGIN:VCALENDAR
VERSION:2.0
PRODID:-//Municipalidad de El Calafate - ECPv6.15.19//NONSGML v1.0//EN
CALSCALE:GREGORIAN
METHOD:PUBLISH
X-ORIGINAL-URL:https://elcalafate.gov.ar
X-WR-CALDESC:Eventos para Municipalidad de El Calafate
REFRESH-INTERVAL;VALUE=DURATION:PT1H
X-Robots-Tag:noindex
X-PUBLISHED-TTL:PT1H
BEGIN:VTIMEZONE
TZID:America/Sao_Paulo
BEGIN:STANDARD
TZOFFSETFROM:-0300
TZOFFSETTO:-0300
TZNAME:-03
DTSTART:20230101T000000
END:STANDARD
END:VTIMEZONE
BEGIN:VEVENT
DTSTART;TZID=America/Sao_Paulo:20241222T150000
DTEND;TZID=America/Sao_Paulo:20241222T150000
DTSTAMP:20260419T011753
CREATED:20241112T163444Z
LAST-MODIFIED:20241114T164006Z
UID:2623-1734879600-1734879600@elcalafate.gov.ar
SUMMARY:¡PAPA NOEL\, llega a El Calafate!
DESCRIPTION:Papa Noel va a estar en la Plaza Pioneros recibiendo las cartas de los más pequeños.
URL:https://elcalafate.gov.ar/eventos/papa-noel-llega-a-el-calafate/
ATTACH;FMTTYPE=image/jpeg:https://elcalafate.gov.ar/wp-content/uploads/2024/11/410798194_946528413499688_4566522786506985103_n.jpg
END:VEVENT
END:VCALENDAR