BEGIN:VCALENDAR
VERSION:2.0
PRODID:-//Municipalidad de El Calafate - ECPv6.15.19//NONSGML v1.0//EN
CALSCALE:GREGORIAN
METHOD:PUBLISH
X-ORIGINAL-URL:https://elcalafate.gov.ar
X-WR-CALDESC:Eventos para Municipalidad de El Calafate
REFRESH-INTERVAL;VALUE=DURATION:PT1H
X-Robots-Tag:noindex
X-PUBLISHED-TTL:PT1H
BEGIN:VTIMEZONE
TZID:America/Sao_Paulo
BEGIN:STANDARD
TZOFFSETFROM:-0300
TZOFFSETTO:-0300
TZNAME:-03
DTSTART:20230101T000000
END:STANDARD
END:VTIMEZONE
BEGIN:VEVENT
DTSTART;TZID=America/Sao_Paulo:20241112T080000
DTEND;TZID=America/Sao_Paulo:20241112T170000
DTSTAMP:20260419T011143
CREATED:20241112T142126Z
LAST-MODIFIED:20241112T151021Z
UID:2594-1731398400-1731430800@elcalafate.gov.ar
SUMMARY:Intizar presenta "Ayer y Hoy"
DESCRIPTION:La Danza Árabe Egipcia hasta la actualidad
URL:https://elcalafate.gov.ar/eventos/intizar-presenta-ayer-y-hoy/
LOCATION:Centro cultural municipal\, Julio Argentino Roca 1100\, El Calafate\, Santa Cruz\, 9405\, Argentina
ATTACH;FMTTYPE=image/jpeg:https://elcalafate.gov.ar/wp-content/uploads/2024/11/danza-arabe.jpg
END:VEVENT
END:VCALENDAR