BEGIN:VCALENDAR
VERSION:2.0
PRODID:-//Municipalidad de El Calafate - ECPv6.15.19//NONSGML v1.0//EN
CALSCALE:GREGORIAN
METHOD:PUBLISH
X-ORIGINAL-URL:https://elcalafate.gov.ar
X-WR-CALDESC:Eventos para Municipalidad de El Calafate
REFRESH-INTERVAL;VALUE=DURATION:PT1H
X-Robots-Tag:noindex
X-PUBLISHED-TTL:PT1H
BEGIN:VTIMEZONE
TZID:America/Sao_Paulo
BEGIN:STANDARD
TZOFFSETFROM:-0300
TZOFFSETTO:-0300
TZNAME:-03
DTSTART:20230101T000000
END:STANDARD
END:VTIMEZONE
BEGIN:VEVENT
DTSTART;TZID=America/Sao_Paulo:20241023T093000
DTEND;TZID=America/Sao_Paulo:20241030T170000
DTSTAMP:20260419T011847
CREATED:20241021T223329Z
LAST-MODIFIED:20241021T223439Z
UID:2476-1729675800-1730307600@elcalafate.gov.ar
SUMMARY:Muestra de Acuarelas\, dibujos y pinturas en la Sala de Artes del Centro Cultural.
DESCRIPTION:Muestra de Acuarelas\, dibujos y pinturas en la Sala de Artes del Centro Cultural.
URL:https://elcalafate.gov.ar/eventos/muestra-de-acuarelas-dibujos-y-pinturas-en-la-sala-de-artes-del-centro-cultural/
LOCATION:Sala de Arte\, Julio Argentino Roca 1100\, El Calafate\, Santa Cruz\, 9405\, Argentina
ATTACH;FMTTYPE=image/jpeg:https://elcalafate.gov.ar/wp-content/uploads/2024/10/62f6b2b0-80ba-4f09-9dc2-ec16836119de.jpeg
END:VEVENT
BEGIN:VEVENT
DTSTART;TZID=America/Sao_Paulo:20241026T080000
DTEND;TZID=America/Sao_Paulo:20241027T170000
DTSTAMP:20260419T011847
CREATED:20241024T133441Z
LAST-MODIFIED:20241024T133918Z
UID:2513-1729929600-1730048400@elcalafate.gov.ar
SUMMARY:Nueva fecha de la Liga SUR
DESCRIPTION:Se juega una nueva fecha de la Liga SUR en los estadios municipales Yoli Britez y Pocho Gómez. \n\n\n\n\n\n\n\n\n\n\n\n\n\n\n\n\n\n\n\n\n\n\n\n\n\n\n\n\n\n \n\n\n\nFIXTURE SABADO 26/10/2025 POCHO GOMEZ \n\n\n\n\n10ma Femenino\n\n\n\n12:00 Argentinos Fem vs Los Pinos Fem\n\n\n\n\n\nFecha 4 10ma División\n\n\n\n12:00 NOB vs Argentinos Verde\n\n\n\n12:40 Esperanza vs Juveniles\n\n\n\n12:40 Argentinos Blanco vs Cañadón\n\n\n\n\n\nFecha 5 9na División\n\n\n\n13:20 Calafateños vs NOB Negro\n\n\n\n13:20 Gendarme vs Juveniles\n\n\n\n14:00 Argentinos Verdes vs NOB Rojo\n\n\n\n14:00 Esperanza Rojo vs Cañadón\n\n\n\n14:40 Argentinos Blanco vs Esperanza Blanco\n\n\n\n\n\nFecha 5 8va División\n\n\n\n14:40 Cañadón Naranja vs Gendarme\n\n\n\n15:30 NOB Negro vs Calafateños\n\n\n\n15:30 Esperanza Blanco vs Cañadón Azul\n\n\n\n16:20 NOB Rojo vs Esperanza Rojo\n\n\n\n16:20 Argentino Blanco vs Argentino Verde\n\n\n\n\n \n\n\n\nFIXTURE SABADO 26/10/2025 YOLY CACERES DE BRITEZ \n\n\n\n\nFecha 5 7ma División\n\n\n\n11:00 Gendarme A vs NOB\n\n\n\n12:30 Cañadón vs Argentinos del Sur\n\n\n\n14:00 Esperanza vs Calafateños\n\n\n\n\n\nFecha 4 5ta División\n\n\n\n15:30 Esperanza vs Juveniles\n\n\n\n17:20 Gendarme A vs Lago Argentino\n\n\n\n\nFIXTURE DOMINGO 27/10/2025 YOLY CACERES DE BRITEZ \n\n\n\n\nFecha 5 6ta División\n\n\n\n10:00 Argentinos del Sur vs Cañadón\n\n\n\n11:30 Esperanza vs Lago Argentino\n\n\n\n\n\nFechas 4 1ra División\n\n\n\n14:00 Lago Argentino vs NOB\n\n\n\n16:00 Cañadón vs Juveniles\n\n\n\nArgentinos del Sur vs Esperanza (miércoles 30/10)
URL:https://elcalafate.gov.ar/eventos/nueva-fecha-de-la-liga-sur/
CATEGORIES:deportes
ATTACH;FMTTYPE=image/jpeg:https://elcalafate.gov.ar/wp-content/uploads/2024/10/464193293_960210866151850_7234369750723022349_n.jpg
END:VEVENT
BEGIN:VEVENT
DTSTART;TZID=America/Sao_Paulo:20241026T080000
DTEND;TZID=America/Sao_Paulo:20241027T170000
DTSTAMP:20260419T011847
CREATED:20241024T192752Z
LAST-MODIFIED:20241024T192809Z
UID:2534-1729929600-1730048400@elcalafate.gov.ar
SUMMARY:Encuentro Regional de Newcom
DESCRIPTION:Se llevará a cabo un nuevo encuentro regional de #newcom.  \n\n\n\nEquipos del Departamento Lago Argentino\, como El Chaltén\, Tres Lagos y El Calafate se darán cita este sábado y domingo en el Gimnasio Palito Cherbukov.
URL:https://elcalafate.gov.ar/eventos/encuentro-regional-de-newcom/
ATTACH;FMTTYPE=image/jpeg:https://elcalafate.gov.ar/wp-content/uploads/2024/10/newcom.jpg
END:VEVENT
BEGIN:VEVENT
DTSTART;TZID=America/Sao_Paulo:20241026T200000
DTEND;TZID=America/Sao_Paulo:20241026T220000
DTSTAMP:20260419T011847
CREATED:20241021T224050Z
LAST-MODIFIED:20241024T134030Z
UID:2483-1729972800-1729980000@elcalafate.gov.ar
SUMMARY:Grupo de Teatro - Somos lo que somos
DESCRIPTION:El grupo de teatro “Somos lo que somos” presenta Mamma Mia!. El musical con las canciones de ABBA. \n\n\n\nSe realizarán dos presentaciones en el Centro Cultural. El valor de la entrada será con la modalidad “a la gorra” \n\n\n\nSábado 26  – 20.00hs \n\n\n\nDomingo 27 – 18.00 hs
URL:https://elcalafate.gov.ar/eventos/grupo-de-teatro-somos-lo-que-somos/
LOCATION:Centro cultural municipal\, Julio Argentino Roca 1100\, El Calafate\, Santa Cruz\, 9405\, Argentina
CATEGORIES:Cultura
ATTACH;FMTTYPE=image/jpeg:https://elcalafate.gov.ar/wp-content/uploads/2024/10/919ccb31-3385-442f-8512-26ac8b2522c8-e1729550139428.jpeg
END:VEVENT
END:VCALENDAR