BEGIN:VCALENDAR
VERSION:2.0
PRODID:-//Municipalidad de El Calafate - ECPv6.15.19//NONSGML v1.0//EN
CALSCALE:GREGORIAN
METHOD:PUBLISH
X-WR-CALNAME:Municipalidad de El Calafate
X-ORIGINAL-URL:https://elcalafate.gov.ar
X-WR-CALDESC:Eventos para Municipalidad de El Calafate
REFRESH-INTERVAL;VALUE=DURATION:PT1H
X-Robots-Tag:noindex
X-PUBLISHED-TTL:PT1H
BEGIN:VTIMEZONE
TZID:America/Sao_Paulo
BEGIN:STANDARD
TZOFFSETFROM:-0300
TZOFFSETTO:-0300
TZNAME:-03
DTSTART:20230101T000000
END:STANDARD
END:VTIMEZONE
BEGIN:VTIMEZONE
TZID:UTC
BEGIN:STANDARD
TZOFFSETFROM:+0000
TZOFFSETTO:+0000
TZNAME:UTC
DTSTART:20230101T000000
END:STANDARD
END:VTIMEZONE
BEGIN:VEVENT
DTSTART;TZID=America/Sao_Paulo:20241023T093000
DTEND;TZID=America/Sao_Paulo:20241030T170000
DTSTAMP:20260419T005956
CREATED:20241021T223329Z
LAST-MODIFIED:20241021T223439Z
UID:2476-1729675800-1730307600@elcalafate.gov.ar
SUMMARY:Muestra de Acuarelas\, dibujos y pinturas en la Sala de Artes del Centro Cultural.
DESCRIPTION:Muestra de Acuarelas\, dibujos y pinturas en la Sala de Artes del Centro Cultural.
URL:https://elcalafate.gov.ar/eventos/muestra-de-acuarelas-dibujos-y-pinturas-en-la-sala-de-artes-del-centro-cultural/
LOCATION:Sala de Arte\, Julio Argentino Roca 1100\, El Calafate\, Santa Cruz\, 9405\, Argentina
ATTACH;FMTTYPE=image/jpeg:https://elcalafate.gov.ar/wp-content/uploads/2024/10/62f6b2b0-80ba-4f09-9dc2-ec16836119de.jpeg
END:VEVENT
BEGIN:VEVENT
DTSTART;TZID=UTC:20241024T180000
DTEND;TZID=UTC:20241024T190000
DTSTAMP:20260419T005956
CREATED:20241016T185520Z
LAST-MODIFIED:20241016T185643Z
UID:2221-1729792800-1729796400@elcalafate.gov.ar
SUMMARY:Presentación del Libro - Voces\, Tiempo\, Verdad
DESCRIPTION:El próximo 24 de octubre\, la ciudad de El calafate será sede de la charla-debate de la ‘GiraNacional’ presentación del libro “Voces\, Tiempo\, Verdad ((No Nos Cuenten Cromañón)”\, obradirigida íntegramente por nuestra Organización y escrita por el periodista Bruno Larocca. \n\n\n\nEl evento\, abierto a todo público y con entrada gratuita\, se realizará a las 18:00 hs. En elconsejo deliberante y contará con la presencia del Autor e integrantes de N.N.C.C. (laOrganización de sobrevivientes\, familiares y amigos de víctimas de Cromañón conformada en 2007 que impulsó la realización de esta obra y todos los 30 de diciembre organiza un actomultitudinario en el Obelisco). \n\n\n\nLa presentación contará también con proyecciones y la participación del artistalocal CalaGallardo\, que le pondrán música a la noche interpretando algunas de sus canciones. \n\n\n\nSobre el libro:Apoyado en las voces de presƟgiosos sociólogos\, comunicadores\, acƟvistas deDerechos Humanos\, músicos\, psicólogos\, pensadores\, abogados ysobrevivientes\, “Voces\, Tiempo\, Verdad” plantea una mirada reflexivasobre la mayor tragedia no natural de la ArgenƟna.ParƟciparon con su tesƟmonio directo: Estela de CarloƩo (Prólogo)\, IndioSolari\, Eugenio Zaffaroni\, Víctor Hugo Morales\, Gabriel Solano\,Alfredo Moffat\, José Palazzo\, Alejandro Kaufman\, Leandro Santoro\,Carlos Sica\, Fabio Lacolla\, César San Juan\, músicos y sobrevivientes.
URL:https://elcalafate.gov.ar/eventos/presentacion-del-libro-voces-tiempo-verdad/
LOCATION:HCD El Calafate\, MP6V+WP\, El Calafate\, Santa Cruz\, 9405\, Argentina
ATTACH;FMTTYPE=image/jpeg:https://elcalafate.gov.ar/wp-content/uploads/2024/10/Imagen-de-WhatsApp-2024-10-15-a-las-12.04.53_50d031d4.jpg
END:VEVENT
END:VCALENDAR